BEGIN:VCALENDAR
VERSION:2.0
PRODID:icalendar-ruby
CALSCALE:GREGORIAN
METHOD:PUBLISH
BEGIN:VEVENT
DTSTAMP:20260422T042448Z
UID:7-269873@lighthouseofhope.org
DTSTART:20261015T013000Z
DTEND:20261015T033000Z
CLASS:PUBLIC
CREATED:20260421T184307
DESCRIPTION:
LAST-MODIFIED:20260421T184307
LOCATION:Sanctuary
SUMMARY:Youth Group
URL;VALUE=URI:https://lighthouseofhope.org/events/youth-group/2026-10-14
ATTACH;FILENAME=IMG_4909.jpeg;FMTTYPE=image/jpeg:https://dq5pwpg1q8ru0.clou
 dfront.net/2025/12/04/17/36/15/7665c2d0-70ee-46ca-a370-2ae0d86739a4/IMG_49
 09.jpeg
END:VEVENT
END:VCALENDAR
