BEGIN:VCALENDAR
VERSION:2.0
PRODID:icalendar-ruby
CALSCALE:GREGORIAN
METHOD:PUBLISH
BEGIN:VEVENT
DTSTAMP:20260420T110322Z
UID:6-268587@lighthouseofhope.org
DTSTART;VALUE=DATE:20261018
DTEND;VALUE=DATE:20261018
CLASS:PUBLIC
CREATED:20260420T010107
DESCRIPTION:
LAST-MODIFIED:20260420T010107
LOCATION:Sanctuary
SUMMARY:Sunday Service
URL;VALUE=URI:https://lighthouseofhope.org/events/sunday-service/2026-10-18
ATTACH;FILENAME=worship1.JPG;FMTTYPE=image/jpeg:https://dq5pwpg1q8ru0.cloud
 front.net/2025/11/23/19/21/01/8e5c9b53-e271-4d8f-9615-67ffad50ec27/worship
 1.JPG
END:VEVENT
END:VCALENDAR
